BEGIN:VCALENDAR
VERSION:2.0
PRODID:-//New American Pathways - ECPv6.15.14//NONSGML v1.0//EN
CALSCALE:GREGORIAN
METHOD:PUBLISH
X-WR-CALNAME:New American Pathways
X-ORIGINAL-URL:https://newamericanpathways.org
X-WR-CALDESC:Events for New American Pathways
REFRESH-INTERVAL;VALUE=DURATION:PT1H
X-Robots-Tag:noindex
X-PUBLISHED-TTL:PT1H
BEGIN:VTIMEZONE
TZID:America/New_York
BEGIN:DAYLIGHT
TZOFFSETFROM:-0500
TZOFFSETTO:-0400
TZNAME:EDT
DTSTART:20240310T070000
END:DAYLIGHT
BEGIN:STANDARD
TZOFFSETFROM:-0400
TZOFFSETTO:-0500
TZNAME:EST
DTSTART:20241103T060000
END:STANDARD
BEGIN:DAYLIGHT
TZOFFSETFROM:-0500
TZOFFSETTO:-0400
TZNAME:EDT
DTSTART:20250309T070000
END:DAYLIGHT
BEGIN:STANDARD
TZOFFSETFROM:-0400
TZOFFSETTO:-0500
TZNAME:EST
DTSTART:20251102T060000
END:STANDARD
BEGIN:DAYLIGHT
TZOFFSETFROM:-0500
TZOFFSETTO:-0400
TZNAME:EDT
DTSTART:20260308T070000
END:DAYLIGHT
BEGIN:STANDARD
TZOFFSETFROM:-0400
TZOFFSETTO:-0500
TZNAME:EST
DTSTART:20261101T060000
END:STANDARD
BEGIN:DAYLIGHT
TZOFFSETFROM:-0500
TZOFFSETTO:-0400
TZNAME:EDT
DTSTART:20270314T070000
END:DAYLIGHT
BEGIN:STANDARD
TZOFFSETFROM:-0400
TZOFFSETTO:-0500
TZNAME:EST
DTSTART:20271107T060000
END:STANDARD
END:VTIMEZONE
BEGIN:VEVENT
DTSTART;VALUE=DATE:20260304
DTEND;VALUE=DATE:20260305
DTSTAMP:20260421T071318
CREATED:20250610T191601Z
LAST-MODIFIED:20250610T191601Z
UID:14249-1772582400-1772668799@newamericanpathways.org
SUMMARY:Holi
DESCRIPTION:
URL:https://newamericanpathways.org/event/holi/
CATEGORIES:Holiday
END:VEVENT
BEGIN:VEVENT
DTSTART;VALUE=DATE:20251226
DTEND;VALUE=DATE:20251227
DTSTAMP:20260421T071318
CREATED:20250508T170059Z
LAST-MODIFIED:20250508T172744Z
UID:13937-1766707200-1766793599@newamericanpathways.org
SUMMARY:Kwanzaa Begins
DESCRIPTION:
URL:https://newamericanpathways.org/event/kwanzaa-begins/
CATEGORIES:Holiday
END:VEVENT
BEGIN:VEVENT
DTSTART;VALUE=DATE:20251225
DTEND;VALUE=DATE:20251226
DTSTAMP:20260421T071318
CREATED:20250508T170058Z
LAST-MODIFIED:20250508T211856Z
UID:13936-1766620800-1766707199@newamericanpathways.org
SUMMARY:Christmas Day
DESCRIPTION:
URL:https://newamericanpathways.org/event/christmas-day/
CATEGORIES:Holiday
END:VEVENT
BEGIN:VEVENT
DTSTART;VALUE=DATE:20251224
DTEND;VALUE=DATE:20251225
DTSTAMP:20260421T071318
CREATED:20250508T170058Z
LAST-MODIFIED:20250508T211912Z
UID:13935-1766534400-1766620799@newamericanpathways.org
SUMMARY:Christmas Eve
DESCRIPTION:
URL:https://newamericanpathways.org/event/christmas-eve/
CATEGORIES:Holiday
END:VEVENT
BEGIN:VEVENT
DTSTART;VALUE=DATE:20251223
DTEND;VALUE=DATE:20251224
DTSTAMP:20260421T071318
CREATED:20250508T170058Z
LAST-MODIFIED:20250508T211953Z
UID:13934-1766448000-1766534399@newamericanpathways.org
SUMMARY:Hanukkah Begins
DESCRIPTION:
URL:https://newamericanpathways.org/event/hanukkah-begins/
CATEGORIES:Holiday
END:VEVENT
BEGIN:VEVENT
DTSTART;VALUE=DATE:20251127
DTEND;VALUE=DATE:20251128
DTSTAMP:20260421T071318
CREATED:20250508T170045Z
LAST-MODIFIED:20250508T212036Z
UID:13933-1764201600-1764287999@newamericanpathways.org
SUMMARY:Thanksgiving Day
DESCRIPTION:
URL:https://newamericanpathways.org/event/thanksgiving-day/
CATEGORIES:Holiday
END:VEVENT
BEGIN:VEVENT
DTSTART;VALUE=DATE:20251111
DTEND;VALUE=DATE:20251112
DTSTAMP:20260421T071318
CREATED:20250508T170044Z
LAST-MODIFIED:20250508T212053Z
UID:13932-1762819200-1762905599@newamericanpathways.org
SUMMARY:Veterans Day
DESCRIPTION:
URL:https://newamericanpathways.org/event/veterans-day/
CATEGORIES:Holiday
END:VEVENT
BEGIN:VEVENT
DTSTART;VALUE=DATE:20251101
DTEND;VALUE=DATE:20251102
DTSTAMP:20260421T071318
CREATED:20250508T170043Z
LAST-MODIFIED:20250508T212113Z
UID:13930-1761955200-1762041599@newamericanpathways.org
SUMMARY:Day of the Dead
DESCRIPTION:
URL:https://newamericanpathways.org/event/day-of-the-dead/
CATEGORIES:Holiday
END:VEVENT
BEGIN:VEVENT
DTSTART;VALUE=DATE:20251031
DTEND;VALUE=DATE:20251101
DTSTAMP:20260421T071318
CREATED:20250508T170043Z
LAST-MODIFIED:20250508T212124Z
UID:13929-1761868800-1761955199@newamericanpathways.org
SUMMARY:Halloween
DESCRIPTION:
URL:https://newamericanpathways.org/event/halloween/
CATEGORIES:Holiday
END:VEVENT
BEGIN:VEVENT
DTSTART;VALUE=DATE:20251021
DTEND;VALUE=DATE:20251022
DTSTAMP:20260421T071318
CREATED:20250508T170031Z
LAST-MODIFIED:20250508T212159Z
UID:13928-1761004800-1761091199@newamericanpathways.org
SUMMARY:Diwali
DESCRIPTION:
URL:https://newamericanpathways.org/event/diwali/
CATEGORIES:Holiday
END:VEVENT
BEGIN:VEVENT
DTSTART;VALUE=DATE:20251013
DTEND;VALUE=DATE:20251014
DTSTAMP:20260421T071318
CREATED:20250508T170030Z
LAST-MODIFIED:20250508T212212Z
UID:13927-1760313600-1760399999@newamericanpathways.org
SUMMARY:Columbus Day / Indigenous Peoples' Day
DESCRIPTION:
URL:https://newamericanpathways.org/event/columbus-day-indigenous-peoples-day/
CATEGORIES:Holiday
END:VEVENT
BEGIN:VEVENT
DTSTART;VALUE=DATE:20251011
DTEND;VALUE=DATE:20251012
DTSTAMP:20260421T071318
CREATED:20250508T170029Z
LAST-MODIFIED:20250508T212223Z
UID:13926-1760140800-1760227199@newamericanpathways.org
SUMMARY:Yom Kippur
DESCRIPTION:
URL:https://newamericanpathways.org/event/yom-kippur/
CATEGORIES:Holiday
END:VEVENT
BEGIN:VEVENT
DTSTART;VALUE=DATE:20251002
DTEND;VALUE=DATE:20251003
DTSTAMP:20260421T071318
CREATED:20250508T170029Z
LAST-MODIFIED:20250508T212231Z
UID:13925-1759363200-1759449599@newamericanpathways.org
SUMMARY:Rosh Hashanah
DESCRIPTION:
URL:https://newamericanpathways.org/event/rosh-hashanah/
CATEGORIES:Holiday
END:VEVENT
BEGIN:VEVENT
DTSTART;VALUE=DATE:20250901
DTEND;VALUE=DATE:20250902
DTSTAMP:20260421T071318
CREATED:20250508T165953Z
LAST-MODIFIED:20250508T212252Z
UID:13923-1756684800-1756771199@newamericanpathways.org
SUMMARY:Labor Day
DESCRIPTION:
URL:https://newamericanpathways.org/event/labor-day/
CATEGORIES:Holiday
END:VEVENT
BEGIN:VEVENT
DTSTART;VALUE=DATE:20250704
DTEND;VALUE=DATE:20250705
DTSTAMP:20260421T071318
CREATED:20250508T165953Z
LAST-MODIFIED:20250508T212304Z
UID:13922-1751587200-1751673599@newamericanpathways.org
SUMMARY:Independence Day
DESCRIPTION:
URL:https://newamericanpathways.org/event/independence-day/
CATEGORIES:Holiday
END:VEVENT
BEGIN:VEVENT
DTSTART;VALUE=DATE:20250620
DTEND;VALUE=DATE:20250621
DTSTAMP:20260421T071318
CREATED:20250610T192614Z
LAST-MODIFIED:20250610T192614Z
UID:14255-1750377600-1750463999@newamericanpathways.org
SUMMARY:World Refugee Day
DESCRIPTION:
URL:https://newamericanpathways.org/event/world-refugee-day/
CATEGORIES:Holiday
END:VEVENT
BEGIN:VEVENT
DTSTART;VALUE=DATE:20250619
DTEND;VALUE=DATE:20250620
DTSTAMP:20260421T071318
CREATED:20250508T165952Z
LAST-MODIFIED:20250508T212321Z
UID:13921-1750291200-1750377599@newamericanpathways.org
SUMMARY:Juneteenth National Independence Day
DESCRIPTION:
URL:https://newamericanpathways.org/event/juneteenth-national-independence-day/
CATEGORIES:Holiday
END:VEVENT
BEGIN:VEVENT
DTSTART;VALUE=DATE:20250615
DTEND;VALUE=DATE:20250616
DTSTAMP:20260421T071318
CREATED:20250508T165952Z
LAST-MODIFIED:20250508T212344Z
UID:13920-1749945600-1750031999@newamericanpathways.org
SUMMARY:Father's Day
DESCRIPTION:
URL:https://newamericanpathways.org/event/fathers-day/
CATEGORIES:Holiday
END:VEVENT
BEGIN:VEVENT
DTSTART;VALUE=DATE:20250601
DTEND;VALUE=DATE:20250701
DTSTAMP:20260421T071318
CREATED:20250508T165952Z
LAST-MODIFIED:20250521T232715Z
UID:13919-1748736000-1751327999@newamericanpathways.org
SUMMARY:Pride Month
DESCRIPTION:
URL:https://newamericanpathways.org/event/pride-month/
CATEGORIES:Holiday,Monthly Observance
END:VEVENT
BEGIN:VEVENT
DTSTART;VALUE=DATE:20250526
DTEND;VALUE=DATE:20250527
DTSTAMP:20260421T071318
CREATED:20250508T165940Z
LAST-MODIFIED:20250508T212410Z
UID:13918-1748217600-1748303999@newamericanpathways.org
SUMMARY:Memorial Day
DESCRIPTION:
URL:https://newamericanpathways.org/event/memorial-day/
CATEGORIES:Holiday
END:VEVENT
BEGIN:VEVENT
DTSTART;VALUE=DATE:20250511
DTEND;VALUE=DATE:20250512
DTSTAMP:20260421T071318
CREATED:20250508T165938Z
LAST-MODIFIED:20250508T212526Z
UID:13917-1746921600-1747007999@newamericanpathways.org
SUMMARY:Mother's Day
DESCRIPTION:
URL:https://newamericanpathways.org/event/mothers-day/
CATEGORIES:Holiday
END:VEVENT
BEGIN:VEVENT
DTSTART;VALUE=DATE:20250506
DTEND;VALUE=DATE:20250507
DTSTAMP:20260421T071318
CREATED:20250508T212805Z
LAST-MODIFIED:20250508T212805Z
UID:13992-1746489600-1746575999@newamericanpathways.org
SUMMARY:National Teacher Appreciation Day
DESCRIPTION:
URL:https://newamericanpathways.org/event/national-teacher-appreciation-day/
CATEGORIES:Holiday
END:VEVENT
BEGIN:VEVENT
DTSTART;VALUE=DATE:20250505
DTEND;VALUE=DATE:20250506
DTSTAMP:20260421T071318
CREATED:20250508T165938Z
LAST-MODIFIED:20250508T212539Z
UID:13916-1746403200-1746489599@newamericanpathways.org
SUMMARY:Cinco de Mayo
DESCRIPTION:
URL:https://newamericanpathways.org/event/cinco-de-mayo/
CATEGORIES:Holiday
END:VEVENT
BEGIN:VEVENT
DTSTART;TZID=America/New_York:20250422T000000
DTEND;TZID=America/New_York:20250422T000000
DTSTAMP:20260421T071318
CREATED:20250508T165936Z
LAST-MODIFIED:20250508T171015Z
UID:13914-1745280000-1745280000@newamericanpathways.org
SUMMARY:Earth Day
DESCRIPTION:
URL:https://newamericanpathways.org/event/earth-day/
CATEGORIES:Holiday
END:VEVENT
BEGIN:VEVENT
DTSTART;TZID=America/New_York:20250420T000000
DTEND;TZID=America/New_York:20250420T000000
DTSTAMP:20260421T071318
CREATED:20250508T165923Z
LAST-MODIFIED:20250508T171015Z
UID:13913-1745107200-1745107200@newamericanpathways.org
SUMMARY:Easter Sunday
DESCRIPTION:
URL:https://newamericanpathways.org/event/easter-sunday/
CATEGORIES:Holiday
END:VEVENT
BEGIN:VEVENT
DTSTART;TZID=America/New_York:20250418T000000
DTEND;TZID=America/New_York:20250418T000000
DTSTAMP:20260421T071318
CREATED:20250508T165923Z
LAST-MODIFIED:20250508T171016Z
UID:13912-1744934400-1744934400@newamericanpathways.org
SUMMARY:Good Friday
DESCRIPTION:
URL:https://newamericanpathways.org/event/good-friday/
CATEGORIES:Holiday
END:VEVENT
BEGIN:VEVENT
DTSTART;TZID=America/New_York:20250412T000000
DTEND;TZID=America/New_York:20250412T000000
DTSTAMP:20260421T071318
CREATED:20250508T165923Z
LAST-MODIFIED:20250508T171017Z
UID:13911-1744416000-1744416000@newamericanpathways.org
SUMMARY:Passover Begins
DESCRIPTION:
URL:https://newamericanpathways.org/event/passover-begins/
CATEGORIES:Holiday
END:VEVENT
BEGIN:VEVENT
DTSTART;TZID=America/New_York:20250401T000000
DTEND;TZID=America/New_York:20250401T000000
DTSTAMP:20260421T071318
CREATED:20250508T165923Z
LAST-MODIFIED:20250508T171017Z
UID:13910-1743465600-1743465600@newamericanpathways.org
SUMMARY:April Fool's Day
DESCRIPTION:
URL:https://newamericanpathways.org/event/april-fools-day/
CATEGORIES:Holiday
END:VEVENT
BEGIN:VEVENT
DTSTART;TZID=America/New_York:20250330T000000
DTEND;TZID=America/New_York:20250330T000000
DTSTAMP:20260421T071318
CREATED:20250508T165922Z
LAST-MODIFIED:20250508T171018Z
UID:13909-1743292800-1743292800@newamericanpathways.org
SUMMARY:Eid al-Fitr
DESCRIPTION:
URL:https://newamericanpathways.org/event/eid-al-fitr/
CATEGORIES:Holiday
END:VEVENT
BEGIN:VEVENT
DTSTART;TZID=America/New_York:20250317T000000
DTEND;TZID=America/New_York:20250317T000000
DTSTAMP:20260421T071318
CREATED:20250508T165908Z
LAST-MODIFIED:20250508T171019Z
UID:13908-1742169600-1742169600@newamericanpathways.org
SUMMARY:St. Patrick's Day
DESCRIPTION:
URL:https://newamericanpathways.org/event/st-patricks-day/
CATEGORIES:Holiday
END:VEVENT
END:VCALENDAR