BEGIN:VCALENDAR
VERSION:2.0
PRODID:-//New American Pathways - ECPv6.15.14//NONSGML v1.0//EN
CALSCALE:GREGORIAN
METHOD:PUBLISH
X-ORIGINAL-URL:https://newamericanpathways.org
X-WR-CALDESC:Events for New American Pathways
REFRESH-INTERVAL;VALUE=DURATION:PT1H
X-Robots-Tag:noindex
X-PUBLISHED-TTL:PT1H
BEGIN:VTIMEZONE
TZID:America/New_York
BEGIN:DAYLIGHT
TZOFFSETFROM:-0500
TZOFFSETTO:-0400
TZNAME:EDT
DTSTART:20240310T070000
END:DAYLIGHT
BEGIN:STANDARD
TZOFFSETFROM:-0400
TZOFFSETTO:-0500
TZNAME:EST
DTSTART:20241103T060000
END:STANDARD
BEGIN:DAYLIGHT
TZOFFSETFROM:-0500
TZOFFSETTO:-0400
TZNAME:EDT
DTSTART:20250309T070000
END:DAYLIGHT
BEGIN:STANDARD
TZOFFSETFROM:-0400
TZOFFSETTO:-0500
TZNAME:EST
DTSTART:20251102T060000
END:STANDARD
BEGIN:DAYLIGHT
TZOFFSETFROM:-0500
TZOFFSETTO:-0400
TZNAME:EDT
DTSTART:20260308T070000
END:DAYLIGHT
BEGIN:STANDARD
TZOFFSETFROM:-0400
TZOFFSETTO:-0500
TZNAME:EST
DTSTART:20261101T060000
END:STANDARD
END:VTIMEZONE
BEGIN:VEVENT
DTSTART;TZID=America/New_York:20250927T073000
DTEND;TZID=America/New_York:20250927T160000
DTSTAMP:20260421T071435
CREATED:20250508T214117Z
LAST-MODIFIED:20250508T214127Z
UID:14010-1758958200-1758988800@newamericanpathways.org
SUMMARY:10th Annual Refuge Coffee Run
DESCRIPTION:
URL:https://newamericanpathways.org/event/10th-annual-refuge-coffee-run/
LOCATION:Georgia
CATEGORIES:Community Event
END:VEVENT
BEGIN:VEVENT
DTSTART;TZID=America/New_York:20250920T180000
DTEND;TZID=America/New_York:20250920T200000
DTSTAMP:20260421T071435
CREATED:20250508T213929Z
LAST-MODIFIED:20250508T213929Z
UID:14007-1758391200-1758398400@newamericanpathways.org
SUMMARY:YMCA Community Garden Dinner
DESCRIPTION:
URL:https://newamericanpathways.org/event/ymca-community-garden-dinner/
LOCATION:J.M. Tull-Gwinnett Family YMCA
CATEGORIES:Community Event
END:VEVENT
BEGIN:VEVENT
DTSTART;TZID=America/New_York:20250717T160000
DTEND;TZID=America/New_York:20250717T190000
DTSTAMP:20260421T071435
CREATED:20250710T190000Z
LAST-MODIFIED:20250710T190000Z
UID:14500-1752768000-1752778800@newamericanpathways.org
SUMMARY:Refugee Women's Network Chef's Club
DESCRIPTION:Chefs Club is a cohort program under the Refugee Women’s Network that aims to support new American chefs to share their love for cooking and provide an opportunity to develop their own business.
URL:https://newamericanpathways.org/event/rwnchefsclub/
LOCATION:Decatur First Baptist Church\, 308 Clairemont Ave\, Decatur\, Georgia\, 30030
CATEGORIES:Community Event
END:VEVENT
BEGIN:VEVENT
DTSTART;TZID=America/New_York:20250621T100000
DTEND;TZID=America/New_York:20250621T140000
DTSTAMP:20260421T071435
CREATED:20250610T161948Z
LAST-MODIFIED:20250610T191123Z
UID:14235-1750500000-1750514400@newamericanpathways.org
SUMMARY:Refugee Recipe Celebration at ABG
DESCRIPTION:Celebrate the strong connections among plants\, food and culture in honor of World Refugee Day with our community partner\, Friends of Refugees! Chefs mix up the weekend with cooking demonstrations alongside other activities that highlight Atlanta’s diverse refugee communities and foodways.
URL:https://newamericanpathways.org/event/refugee-recipes-at-abg/
LOCATION:Atlanta Botanical Gardens\, 1345 Piedmont Ave NE\, Atlanta\, GA\, 30309\, United States
CATEGORIES:Community Event
END:VEVENT
BEGIN:VEVENT
DTSTART;TZID=America/New_York:20250619T170000
DTEND;TZID=America/New_York:20250619T200000
DTSTAMP:20260421T071435
CREATED:20250508T213608Z
LAST-MODIFIED:20250508T213608Z
UID:14003-1750352400-1750363200@newamericanpathways.org
SUMMARY:YMCA Juneteenth Community Celebration
DESCRIPTION:
URL:https://newamericanpathways.org/event/ymca-juneteenth-community-celebration/
LOCATION:Forsyth County Family YMCA\, 6050 Y Street\, Cumming\, Georgia\, 30040
CATEGORIES:Community Event
END:VEVENT
BEGIN:VEVENT
DTSTART;TZID=America/New_York:20250531T090000
DTEND;TZID=America/New_York:20250531T120000
DTSTAMP:20260421T071435
CREATED:20250508T213434Z
LAST-MODIFIED:20250508T213434Z
UID:13999-1748682000-1748692800@newamericanpathways.org
SUMMARY:YMCA 5K Run
DESCRIPTION:
URL:https://newamericanpathways.org/event/ymca-5k-run/
LOCATION:The Villages of Carver Family YMCA
CATEGORIES:Community Event
END:VEVENT
BEGIN:VEVENT
DTSTART;TZID=America/New_York:20250517T090000
DTEND;TZID=America/New_York:20250517T120000
DTSTAMP:20260421T071435
CREATED:20250508T213228Z
LAST-MODIFIED:20250508T213255Z
UID:13997-1747472400-1747483200@newamericanpathways.org
SUMMARY:Refuge Coffee Co.'s 10th Birthday Celebration
DESCRIPTION:
URL:https://newamericanpathways.org/event/refuge-coffee-co-s-10th-birthday-celebration/
LOCATION:Refuge Coffee Co.\, 4170 E Ponce de Leon Ave\, Clarkston\, GA\, 30021\, United States
CATEGORIES:Community Event
END:VEVENT
BEGIN:VEVENT
DTSTART;TZID=America/New_York:20250512T090000
DTEND;TZID=America/New_York:20250512T120000
DTSTAMP:20260421T071435
CREATED:20250508T213056Z
LAST-MODIFIED:20250508T213056Z
UID:13994-1747040400-1747051200@newamericanpathways.org
SUMMARY:YMCA Mother's Day Brunch
DESCRIPTION:
URL:https://newamericanpathways.org/event/ymca-mothers-day-brunch/
LOCATION:Forsyth County Family YMCA\, 6050 Y Street\, Cumming\, Georgia\, 30040
CATEGORIES:Community Event
END:VEVENT
BEGIN:VEVENT
DTSTART;TZID=America/New_York:20250506T150000
DTEND;TZID=America/New_York:20250506T200000
DTSTAMP:20260421T071435
CREATED:20250429T200007Z
LAST-MODIFIED:20250429T200332Z
UID:13882-1746543600-1746561600@newamericanpathways.org
SUMMARY:Decatur YMCA Blood Drive
DESCRIPTION:
URL:https://newamericanpathways.org/event/decatur-ymca-blood-drive/
LOCATION:Decatur YMCA\, 1100 Clairemont Ave.\, Decatur\, Georgia\, 30030
CATEGORIES:Community Event
END:VEVENT
BEGIN:VEVENT
DTSTART;TZID=America/New_York:20250426T090000
DTEND;TZID=America/New_York:20250426T160000
DTSTAMP:20260421T071435
CREATED:20250429T192912Z
LAST-MODIFIED:20250429T195641Z
UID:13868-1745658000-1745683200@newamericanpathways.org
SUMMARY:Refuge Coffee Spring Market
DESCRIPTION:Done Spring cleaning? Time for Spring Shopping! \nCelebrate the season while supporting our community of refugee and immigrant crafters\, chefs\, and business owners! \nLearn More
URL:https://newamericanpathways.org/event/refuge-coffee-spring-market/
LOCATION:Refuge Coffee Co.\, 4170 E Ponce de Leon Ave\, Clarkston\, GA\, 30021\, United States
CATEGORIES:Community Event
END:VEVENT
END:VCALENDAR